BEGIN:VCALENDAR
VERSION:2.0
PRODID:-//Hajnovka.cz - ECPv4.6.11//NONSGML v1.0//EN
CALSCALE:GREGORIAN
METHOD:PUBLISH
X-WR-CALNAME:Hajnovka.cz
X-ORIGINAL-URL:https://www.hajnovka.cz/en
X-WR-CALDESC:Events for Hajnovka.cz
BEGIN:VEVENT
DTSTART;VALUE=DATE:20241111
DTEND;VALUE=DATE:20241118
DTSTAMP:20260419T133302
CREATED:20241111T133550Z
LAST-MODIFIED:20241111T133550Z
UID:4912-1731283200-1731887999@www.hajnovka.cz
SUMMARY:Svatomartinské hody 2024
DESCRIPTION:My v Hajnovce jsme na sv. Martina připraveni :) Přijďte si s námi užít svatomartinské hody\, které se konají od 11.-17.11. a zapít je výborným svatomartinským vínem\, nebo naší tankovou Plzní!\nTěšíme se na Vaší návštěvu! \n
URL:https://www.hajnovka.cz/en/akce/svatomartinske-hody-2024/
END:VEVENT
END:VCALENDAR