BEGIN:VCALENDAR
VERSION:2.0
PRODID:-//Hajnovka.cz - ECPv4.6.11//NONSGML v1.0//EN
CALSCALE:GREGORIAN
METHOD:PUBLISH
X-WR-CALNAME:Hajnovka.cz
X-ORIGINAL-URL:https://www.hajnovka.cz/en
X-WR-CALDESC:Events for Hajnovka.cz
BEGIN:VEVENT
DTSTART;TZID=Europe/Prague:20201110T110000
DTEND;TZID=Europe/Prague:20201113T170000
DTSTAMP:20260421T091730
CREATED:20201104T124943Z
LAST-MODIFIED:20201104T124943Z
UID:3426-1605006000-1605286800@www.hajnovka.cz
SUMMARY:Svatomartinská husa
DESCRIPTION:Vážení hosté\, \nAni tato doba nám neznemožní\, abychom pro Vás připravili tradiční Svatomartinské Hody. \nSamozřejmostí budou pro Vás Svatomartinská vína z vinařství VAJBAR. \nBudeme se na Vás těšit u výdejního okénka! \n
URL:https://www.hajnovka.cz/en/akce/svatomartinska-husa-4/
END:VEVENT
END:VCALENDAR